BEGIN:VCALENDAR
VERSION:2.0
PRODID:-//Gosport Road Runners - ECPv6.15.17.1//NONSGML v1.0//EN
CALSCALE:GREGORIAN
METHOD:PUBLISH
X-ORIGINAL-URL:https://gosportroadrunners.org.uk
X-WR-CALDESC:Events for Gosport Road Runners
REFRESH-INTERVAL;VALUE=DURATION:PT1H
X-Robots-Tag:noindex
X-PUBLISHED-TTL:PT1H
BEGIN:VTIMEZONE
TZID:UTC
BEGIN:STANDARD
TZOFFSETFROM:+0000
TZOFFSETTO:+0000
TZNAME:UTC
DTSTART:20240101T000000
END:STANDARD
END:VTIMEZONE
BEGIN:VEVENT
DTSTART;TZID=UTC:20250724T190000
DTEND;TZID=UTC:20250724T203000
DTSTAMP:20260423T163415
CREATED:20250630T144938Z
LAST-MODIFIED:20250630T144938Z
UID:876-1753383600-1753389000@gosportroadrunners.org.uk
SUMMARY:GRR Club Night - Thu 24 July - 7 pm
DESCRIPTION:Club Night tonight will have : \nClub routes of 3\, 4 and 5 miles. \n 
URL:https://gosportroadrunners.org.uk/event/grr-club-night-thu-24-july-7-pm/
CATEGORIES:GRR
END:VEVENT
END:VCALENDAR