BEGIN:VCALENDAR
VERSION:2.0
PRODID:-//Gosport Road Runners - ECPv6.15.17.1//NONSGML v1.0//EN
CALSCALE:GREGORIAN
METHOD:PUBLISH
X-WR-CALNAME:Gosport Road Runners
X-ORIGINAL-URL:https://gosportroadrunners.org.uk
X-WR-CALDESC:Events for Gosport Road Runners
REFRESH-INTERVAL;VALUE=DURATION:PT1H
X-Robots-Tag:noindex
X-PUBLISHED-TTL:PT1H
BEGIN:VTIMEZONE
TZID:UTC
BEGIN:STANDARD
TZOFFSETFROM:+0000
TZOFFSETTO:+0000
TZNAME:UTC
DTSTART:20240101T000000
END:STANDARD
END:VTIMEZONE
BEGIN:VEVENT
DTSTART;TZID=UTC:20251214T100000
DTEND;TZID=UTC:20251214T123000
DTSTAMP:20260420T160912
CREATED:20250827T083610Z
LAST-MODIFIED:20250827T083610Z
UID:960-1765706400-1765715400@gosportroadrunners.org.uk
SUMMARY:GRR Christmas Handicap - Sunday 14 December - 10 am - Kingfisher Caravan Park
DESCRIPTION:The 2025 GRR Christmas Handicap will be held on Sunday 14 December. The first runner will be away at 10 am and then there will be a staggered calculated timed start depending on what time you have predicted for your chosen distance. \nWe will be running a 10 km and a 5 Km Handicap. \nThere will be no time pieces of any description allowed during the handicap!!. \nFurther details will be published nearer the time and a handicap list for your times will go up on the rugby club notice board in due course. Please be honest about your predicted time…….we will change it if we think it is wrong !! \nThere will be bacon or sausage baps on completion with mince pies and the usual Christmas fare. There will be spot prizes for the best male and female Christmas themed fancy dress. \nThe TCS London Half Marathon club place draw will take place on completion of the Handicap. \nSee you there!! \n 
URL:https://gosportroadrunners.org.uk/event/grr-christmas-handicap-sunday-14-december-10-am-kingfisher-caravan-park/
LOCATION:Kingfisher Caravan Park\, Browndown Road\, Gosport\, Hampshire\, PO13 9BG\, United Kingdom
CATEGORIES:GRR
END:VEVENT
END:VCALENDAR