BEGIN:VCALENDAR
VERSION:2.0
PRODID:-//Gosport Road Runners - ECPv6.15.17.1//NONSGML v1.0//EN
CALSCALE:GREGORIAN
METHOD:PUBLISH
X-WR-CALNAME:Gosport Road Runners
X-ORIGINAL-URL:https://gosportroadrunners.org.uk
X-WR-CALDESC:Events for Gosport Road Runners
REFRESH-INTERVAL;VALUE=DURATION:PT1H
X-Robots-Tag:noindex
X-PUBLISHED-TTL:PT1H
BEGIN:VTIMEZONE
TZID:UTC
BEGIN:STANDARD
TZOFFSETFROM:+0000
TZOFFSETTO:+0000
TZNAME:UTC
DTSTART:20250101T000000
END:STANDARD
END:VTIMEZONE
BEGIN:VEVENT
DTSTART;TZID=UTC:20260217T190000
DTEND;TZID=UTC:20260217T200000
DTSTAMP:20260423T152446
CREATED:20260120T210256Z
LAST-MODIFIED:20260202T193924Z
UID:1087-1771354800-1771358400@gosportroadrunners.org.uk
SUMMARY:Club Night - 17 Feb 26
DESCRIPTION:Intervals with Sue Barrett \nClub routes of 3\, 4 and 5 miles
URL:https://gosportroadrunners.org.uk/event/club-night-17-feb-26/
LOCATION:Gosport & Fareham Rugby Football Club\, The Pavilion/Dolphin Cres\,\, Gosport\, PO12 2HE
CATEGORIES:GRR
END:VEVENT
END:VCALENDAR