BEGIN:VCALENDAR
VERSION:2.0
PRODID:-//Gosport Road Runners - ECPv6.15.17.1//NONSGML v1.0//EN
CALSCALE:GREGORIAN
METHOD:PUBLISH
X-ORIGINAL-URL:https://gosportroadrunners.org.uk
X-WR-CALDESC:Events for Gosport Road Runners
REFRESH-INTERVAL;VALUE=DURATION:PT1H
X-Robots-Tag:noindex
X-PUBLISHED-TTL:PT1H
BEGIN:VTIMEZONE
TZID:UTC
BEGIN:STANDARD
TZOFFSETFROM:+0000
TZOFFSETTO:+0000
TZNAME:UTC
DTSTART:20250101T000000
END:STANDARD
END:VTIMEZONE
BEGIN:VEVENT
DTSTART;TZID=UTC:20260421T184500
DTEND;TZID=UTC:20260421T201500
DTSTAMP:20260421T201530
CREATED:20260421T181310Z
LAST-MODIFIED:20260421T181310Z
UID:1206-1776797100-1776802500@gosportroadrunners.org.uk
SUMMARY:Thursday 30 April Training options- Out of Town - Bluebell Run
DESCRIPTION:The first Club Out of Town\, the Bluebell Run\,  will take place on Thursday 30 April. \nMark Jakins will be hosting the run. More details will be published here as soon as they are known.
URL:https://gosportroadrunners.org.uk/event/thursday-30-april-training-options-out-of-town-bluebell-run/
CATEGORIES:GRR
END:VEVENT
BEGIN:VEVENT
DTSTART;TZID=UTC:20260305T190000
DTEND;TZID=UTC:20260305T200000
DTSTAMP:20260421T201530
CREATED:20260202T194800Z
LAST-MODIFIED:20260202T194801Z
UID:1156-1772737200-1772740800@gosportroadrunners.org.uk
SUMMARY:Club Night
DESCRIPTION:Club routes of 3\, 4 and 5 miles \nOther options TBC
URL:https://gosportroadrunners.org.uk/event/club-night-26-feb-26-7-pm-2/
CATEGORIES:GRR
END:VEVENT
BEGIN:VEVENT
DTSTART;TZID=UTC:20260423T190000
DTEND;TZID=UTC:20260423T200000
DTSTAMP:20260421T201530
CREATED:20260421T180230Z
LAST-MODIFIED:20260421T180230Z
UID:1203-1776970800-1776974400@gosportroadrunners.org.uk
SUMMARY:Thursday Training Options
DESCRIPTION:Beginners group – Couch to 5 Km \nClub routes of 3\, 4 and 5 miles.
URL:https://gosportroadrunners.org.uk/event/thursday-training-options/
CATEGORIES:GRR
END:VEVENT
BEGIN:VEVENT
DTSTART;TZID=UTC:20260428T190000
DTEND;TZID=UTC:20260428T200000
DTSTAMP:20260421T201530
CREATED:20260421T180625Z
LAST-MODIFIED:20260421T180625Z
UID:1205-1777402800-1777406400@gosportroadrunners.org.uk
SUMMARY:Tuesday 28 April Training Options
DESCRIPTION:The only option tonight is the GRR Annual Memorial Run. \nPlease meet at the club by 650pm ready to run at 7 pm. \nWe will run from the rugby club to Bayside Cafe\, with lots of regrouping. Once there we will hold a 2 minute silence/applause in remembrance of all GRRs who are no longer with us. A whole club photo will then be taken and then runners can run back at their own pace to the rugby club. \nPlease wear club colours!!
URL:https://gosportroadrunners.org.uk/event/tuesday-28-april-training-options/
CATEGORIES:GRR
END:VEVENT
BEGIN:VEVENT
DTSTART;TZID=UTC:20260305T190000
DTEND;TZID=UTC:20260305T200000
DTSTAMP:20260421T201530
CREATED:20260202T194800Z
LAST-MODIFIED:20260202T194801Z
UID:1156-1772737200-1772740800@gosportroadrunners.org.uk
SUMMARY:Club Night
DESCRIPTION:Club routes of 3\, 4 and 5 miles \nOther options TBC
URL:https://gosportroadrunners.org.uk/event/club-night-26-feb-26-7-pm-2/
CATEGORIES:GRR
END:VEVENT
BEGIN:VEVENT
DTSTART;TZID=UTC:20260305T190000
DTEND;TZID=UTC:20260305T200000
DTSTAMP:20260421T201530
CREATED:20260202T194800Z
LAST-MODIFIED:20260202T194801Z
UID:1156-1772737200-1772740800@gosportroadrunners.org.uk
SUMMARY:Club Night
DESCRIPTION:Club routes of 3\, 4 and 5 miles \nOther options TBC
URL:https://gosportroadrunners.org.uk/event/club-night-26-feb-26-7-pm-2/
CATEGORIES:GRR
END:VEVENT
BEGIN:VEVENT
DTSTART;TZID=UTC:20260305T190000
DTEND;TZID=UTC:20260305T200000
DTSTAMP:20260421T201530
CREATED:20260202T194800Z
LAST-MODIFIED:20260202T194801Z
UID:1156-1772737200-1772740800@gosportroadrunners.org.uk
SUMMARY:Club Night
DESCRIPTION:Club routes of 3\, 4 and 5 miles \nOther options TBC
URL:https://gosportroadrunners.org.uk/event/club-night-26-feb-26-7-pm-2/
CATEGORIES:GRR
END:VEVENT
BEGIN:VEVENT
DTSTART;TZID=UTC:20260305T190000
DTEND;TZID=UTC:20260305T200000
DTSTAMP:20260421T201530
CREATED:20260202T194800Z
LAST-MODIFIED:20260202T194801Z
UID:1156-1772737200-1772740800@gosportroadrunners.org.uk
SUMMARY:Club Night
DESCRIPTION:Club routes of 3\, 4 and 5 miles \nOther options TBC
URL:https://gosportroadrunners.org.uk/event/club-night-26-feb-26-7-pm-2/
CATEGORIES:GRR
END:VEVENT
BEGIN:VEVENT
DTSTART;TZID=UTC:20260305T190000
DTEND;TZID=UTC:20260305T200000
DTSTAMP:20260421T201530
CREATED:20260202T194800Z
LAST-MODIFIED:20260202T194801Z
UID:1156-1772737200-1772740800@gosportroadrunners.org.uk
SUMMARY:Club Night
DESCRIPTION:Club routes of 3\, 4 and 5 miles \nOther options TBC
URL:https://gosportroadrunners.org.uk/event/club-night-26-feb-26-7-pm-2/
CATEGORIES:GRR
END:VEVENT
BEGIN:VEVENT
DTSTART;TZID=UTC:20260305T190000
DTEND;TZID=UTC:20260305T200000
DTSTAMP:20260421T201530
CREATED:20260202T194800Z
LAST-MODIFIED:20260202T194801Z
UID:1156-1772737200-1772740800@gosportroadrunners.org.uk
SUMMARY:Club Night
DESCRIPTION:Club routes of 3\, 4 and 5 miles \nOther options TBC
URL:https://gosportroadrunners.org.uk/event/club-night-26-feb-26-7-pm-2/
CATEGORIES:GRR
END:VEVENT
BEGIN:VEVENT
DTSTART;TZID=UTC:20260305T190000
DTEND;TZID=UTC:20260305T200000
DTSTAMP:20260421T201530
CREATED:20260202T194800Z
LAST-MODIFIED:20260202T194801Z
UID:1156-1772737200-1772740800@gosportroadrunners.org.uk
SUMMARY:Club Night
DESCRIPTION:Club routes of 3\, 4 and 5 miles \nOther options TBC
URL:https://gosportroadrunners.org.uk/event/club-night-26-feb-26-7-pm-2/
CATEGORIES:GRR
END:VEVENT
BEGIN:VEVENT
DTSTART;TZID=UTC:20260305T190000
DTEND;TZID=UTC:20260305T200000
DTSTAMP:20260421T201530
CREATED:20260202T194800Z
LAST-MODIFIED:20260202T194801Z
UID:1156-1772737200-1772740800@gosportroadrunners.org.uk
SUMMARY:Club Night
DESCRIPTION:Club routes of 3\, 4 and 5 miles \nOther options TBC
URL:https://gosportroadrunners.org.uk/event/club-night-26-feb-26-7-pm-2/
CATEGORIES:GRR
END:VEVENT
BEGIN:VEVENT
DTSTART;TZID=UTC:20260305T190000
DTEND;TZID=UTC:20260305T200000
DTSTAMP:20260421T201530
CREATED:20260202T194800Z
LAST-MODIFIED:20260202T194801Z
UID:1156-1772737200-1772740800@gosportroadrunners.org.uk
SUMMARY:Club Night
DESCRIPTION:Club routes of 3\, 4 and 5 miles \nOther options TBC
URL:https://gosportroadrunners.org.uk/event/club-night-26-feb-26-7-pm-2/
CATEGORIES:GRR
END:VEVENT
BEGIN:VEVENT
DTSTART;TZID=UTC:20260305T190000
DTEND;TZID=UTC:20260305T200000
DTSTAMP:20260421T201530
CREATED:20260202T194800Z
LAST-MODIFIED:20260202T194801Z
UID:1156-1772737200-1772740800@gosportroadrunners.org.uk
SUMMARY:Club Night
DESCRIPTION:Club routes of 3\, 4 and 5 miles \nOther options TBC
URL:https://gosportroadrunners.org.uk/event/club-night-26-feb-26-7-pm-2/
CATEGORIES:GRR
END:VEVENT
BEGIN:VEVENT
DTSTART;TZID=UTC:20260305T190000
DTEND;TZID=UTC:20260305T200000
DTSTAMP:20260421T201530
CREATED:20260202T194800Z
LAST-MODIFIED:20260202T194801Z
UID:1156-1772737200-1772740800@gosportroadrunners.org.uk
SUMMARY:Club Night
DESCRIPTION:Club routes of 3\, 4 and 5 miles \nOther options TBC
URL:https://gosportroadrunners.org.uk/event/club-night-26-feb-26-7-pm-2/
CATEGORIES:GRR
END:VEVENT
BEGIN:VEVENT
DTSTART;TZID=UTC:20260305T190000
DTEND;TZID=UTC:20260305T200000
DTSTAMP:20260421T201530
CREATED:20260202T194800Z
LAST-MODIFIED:20260202T194801Z
UID:1156-1772737200-1772740800@gosportroadrunners.org.uk
SUMMARY:Club Night
DESCRIPTION:Club routes of 3\, 4 and 5 miles \nOther options TBC
URL:https://gosportroadrunners.org.uk/event/club-night-26-feb-26-7-pm-2/
CATEGORIES:GRR
END:VEVENT
BEGIN:VEVENT
DTSTART;TZID=UTC:20260305T190000
DTEND;TZID=UTC:20260305T200000
DTSTAMP:20260421T201530
CREATED:20260202T194800Z
LAST-MODIFIED:20260202T194801Z
UID:1156-1772737200-1772740800@gosportroadrunners.org.uk
SUMMARY:Club Night
DESCRIPTION:Club routes of 3\, 4 and 5 miles \nOther options TBC
URL:https://gosportroadrunners.org.uk/event/club-night-26-feb-26-7-pm-2/
CATEGORIES:GRR
END:VEVENT
BEGIN:VEVENT
DTSTART;TZID=UTC:20260305T190000
DTEND;TZID=UTC:20260305T200000
DTSTAMP:20260421T201530
CREATED:20260202T194800Z
LAST-MODIFIED:20260202T194801Z
UID:1156-1772737200-1772740800@gosportroadrunners.org.uk
SUMMARY:Club Night
DESCRIPTION:Club routes of 3\, 4 and 5 miles \nOther options TBC
URL:https://gosportroadrunners.org.uk/event/club-night-26-feb-26-7-pm-2/
CATEGORIES:GRR
END:VEVENT
BEGIN:VEVENT
DTSTART;TZID=UTC:20260305T190000
DTEND;TZID=UTC:20260305T200000
DTSTAMP:20260421T201530
CREATED:20260202T194800Z
LAST-MODIFIED:20260202T194801Z
UID:1156-1772737200-1772740800@gosportroadrunners.org.uk
SUMMARY:Club Night
DESCRIPTION:Club routes of 3\, 4 and 5 miles \nOther options TBC
URL:https://gosportroadrunners.org.uk/event/club-night-26-feb-26-7-pm-2/
CATEGORIES:GRR
END:VEVENT
BEGIN:VEVENT
DTSTART;TZID=UTC:20260305T190000
DTEND;TZID=UTC:20260305T200000
DTSTAMP:20260421T201530
CREATED:20260202T194800Z
LAST-MODIFIED:20260202T194801Z
UID:1156-1772737200-1772740800@gosportroadrunners.org.uk
SUMMARY:Club Night
DESCRIPTION:Club routes of 3\, 4 and 5 miles \nOther options TBC
URL:https://gosportroadrunners.org.uk/event/club-night-26-feb-26-7-pm-2/
CATEGORIES:GRR
END:VEVENT
BEGIN:VEVENT
DTSTART;TZID=UTC:20260305T190000
DTEND;TZID=UTC:20260305T200000
DTSTAMP:20260421T201530
CREATED:20260202T194800Z
LAST-MODIFIED:20260202T194801Z
UID:1156-1772737200-1772740800@gosportroadrunners.org.uk
SUMMARY:Club Night
DESCRIPTION:Club routes of 3\, 4 and 5 miles \nOther options TBC
URL:https://gosportroadrunners.org.uk/event/club-night-26-feb-26-7-pm-2/
CATEGORIES:GRR
END:VEVENT
BEGIN:VEVENT
DTSTART;TZID=UTC:20260305T190000
DTEND;TZID=UTC:20260305T200000
DTSTAMP:20260421T201530
CREATED:20260202T194800Z
LAST-MODIFIED:20260202T194801Z
UID:1156-1772737200-1772740800@gosportroadrunners.org.uk
SUMMARY:Club Night
DESCRIPTION:Club routes of 3\, 4 and 5 miles \nOther options TBC
URL:https://gosportroadrunners.org.uk/event/club-night-26-feb-26-7-pm-2/
CATEGORIES:GRR
END:VEVENT
BEGIN:VEVENT
DTSTART;TZID=UTC:20260305T190000
DTEND;TZID=UTC:20260305T200000
DTSTAMP:20260421T201530
CREATED:20260202T194800Z
LAST-MODIFIED:20260202T194801Z
UID:1156-1772737200-1772740800@gosportroadrunners.org.uk
SUMMARY:Club Night
DESCRIPTION:Club routes of 3\, 4 and 5 miles \nOther options TBC
URL:https://gosportroadrunners.org.uk/event/club-night-26-feb-26-7-pm-2/
CATEGORIES:GRR
END:VEVENT
BEGIN:VEVENT
DTSTART;TZID=UTC:20260305T190000
DTEND;TZID=UTC:20260305T200000
DTSTAMP:20260421T201530
CREATED:20260202T194800Z
LAST-MODIFIED:20260202T194801Z
UID:1156-1772737200-1772740800@gosportroadrunners.org.uk
SUMMARY:Club Night
DESCRIPTION:Club routes of 3\, 4 and 5 miles \nOther options TBC
URL:https://gosportroadrunners.org.uk/event/club-night-26-feb-26-7-pm-2/
CATEGORIES:GRR
END:VEVENT
BEGIN:VEVENT
DTSTART;TZID=UTC:20260305T190000
DTEND;TZID=UTC:20260305T200000
DTSTAMP:20260421T201530
CREATED:20260202T194800Z
LAST-MODIFIED:20260202T194801Z
UID:1156-1772737200-1772740800@gosportroadrunners.org.uk
SUMMARY:Club Night
DESCRIPTION:Club routes of 3\, 4 and 5 miles \nOther options TBC
URL:https://gosportroadrunners.org.uk/event/club-night-26-feb-26-7-pm-2/
CATEGORIES:GRR
END:VEVENT
BEGIN:VEVENT
DTSTART;TZID=UTC:20260305T190000
DTEND;TZID=UTC:20260305T200000
DTSTAMP:20260421T201530
CREATED:20260202T194800Z
LAST-MODIFIED:20260202T194801Z
UID:1156-1772737200-1772740800@gosportroadrunners.org.uk
SUMMARY:Club Night
DESCRIPTION:Club routes of 3\, 4 and 5 miles \nOther options TBC
URL:https://gosportroadrunners.org.uk/event/club-night-26-feb-26-7-pm-2/
CATEGORIES:GRR
END:VEVENT
BEGIN:VEVENT
DTSTART;TZID=UTC:20260305T190000
DTEND;TZID=UTC:20260305T200000
DTSTAMP:20260421T201530
CREATED:20260202T194800Z
LAST-MODIFIED:20260202T194801Z
UID:1156-1772737200-1772740800@gosportroadrunners.org.uk
SUMMARY:Club Night
DESCRIPTION:Club routes of 3\, 4 and 5 miles \nOther options TBC
URL:https://gosportroadrunners.org.uk/event/club-night-26-feb-26-7-pm-2/
CATEGORIES:GRR
END:VEVENT
BEGIN:VEVENT
DTSTART;TZID=UTC:20260305T190000
DTEND;TZID=UTC:20260305T200000
DTSTAMP:20260421T201530
CREATED:20260202T194800Z
LAST-MODIFIED:20260202T194801Z
UID:1156-1772737200-1772740800@gosportroadrunners.org.uk
SUMMARY:Club Night
DESCRIPTION:Club routes of 3\, 4 and 5 miles \nOther options TBC
URL:https://gosportroadrunners.org.uk/event/club-night-26-feb-26-7-pm-2/
CATEGORIES:GRR
END:VEVENT
BEGIN:VEVENT
DTSTART;TZID=UTC:20260305T190000
DTEND;TZID=UTC:20260305T200000
DTSTAMP:20260421T201530
CREATED:20260202T194800Z
LAST-MODIFIED:20260202T194801Z
UID:1156-1772737200-1772740800@gosportroadrunners.org.uk
SUMMARY:Club Night
DESCRIPTION:Club routes of 3\, 4 and 5 miles \nOther options TBC
URL:https://gosportroadrunners.org.uk/event/club-night-26-feb-26-7-pm-2/
CATEGORIES:GRR
END:VEVENT
BEGIN:VEVENT
DTSTART;TZID=UTC:20260305T190000
DTEND;TZID=UTC:20260305T200000
DTSTAMP:20260421T201530
CREATED:20260202T194800Z
LAST-MODIFIED:20260202T194801Z
UID:1156-1772737200-1772740800@gosportroadrunners.org.uk
SUMMARY:Club Night
DESCRIPTION:Club routes of 3\, 4 and 5 miles \nOther options TBC
URL:https://gosportroadrunners.org.uk/event/club-night-26-feb-26-7-pm-2/
CATEGORIES:GRR
END:VEVENT
END:VCALENDAR