BEGIN:VCALENDAR
VERSION:2.0
PRODID:-//Gosport Road Runners - ECPv6.15.17.1//NONSGML v1.0//EN
CALSCALE:GREGORIAN
METHOD:PUBLISH
X-ORIGINAL-URL:https://gosportroadrunners.org.uk
X-WR-CALDESC:Events for Gosport Road Runners
REFRESH-INTERVAL;VALUE=DURATION:PT1H
X-Robots-Tag:noindex
X-PUBLISHED-TTL:PT1H
BEGIN:VTIMEZONE
TZID:UTC
BEGIN:STANDARD
TZOFFSETFROM:+0000
TZOFFSETTO:+0000
TZNAME:UTC
DTSTART:20240101T000000
END:STANDARD
END:VTIMEZONE
BEGIN:VEVENT
DTSTART;TZID=UTC:20260412T100000
DTEND;TZID=UTC:20260412T130000
DTSTAMP:20260421T211547
CREATED:20260329T173608Z
LAST-MODIFIED:20260329T173608Z
UID:1190-1775988000-1775998800@gosportroadrunners.org.uk
SUMMARY:Salisbury 10 Mile Road Race
DESCRIPTION:Salisbury 10 mile Road Race. \nLink is Here
URL:https://gosportroadrunners.org.uk/event/salisbury-10-mile-road-race/
CATEGORIES:HRRL
END:VEVENT
BEGIN:VEVENT
DTSTART;TZID=UTC:20250706T090000
DTEND;TZID=UTC:20250706T223000
DTSTAMP:20260421T211547
CREATED:20250630T150821Z
LAST-MODIFIED:20250630T150821Z
UID:886-1751792400-1751841000@gosportroadrunners.org.uk
SUMMARY:Lordshill 10 Km - HRRL Race No 12 - Sun 6 July - 0900
DESCRIPTION:HRRL fixture the last of the season here are the details https://www.lordshillroadrunners.org.uk/races/lordshill-10k/
URL:https://gosportroadrunners.org.uk/event/lordshill-10-km-hrrl-race-no-12-sun-6-july-0900/
CATEGORIES:HRRL
END:VEVENT
BEGIN:VEVENT
DTSTART;TZID=UTC:20250706T090000
DTEND;TZID=UTC:20250706T120000
DTSTAMP:20260421T211547
CREATED:20250317T152623Z
LAST-MODIFIED:20250511T195642Z
UID:336-1751792400-1751803200@gosportroadrunners.org.uk
SUMMARY:Lordshill
DESCRIPTION:Distance: 10 Km
URL:https://gosportroadrunners.org.uk/event/lordshill/
CATEGORIES:HRRL
END:VEVENT
BEGIN:VEVENT
DTSTART;VALUE=DATE:20250615
DTEND;VALUE=DATE:20250616
DTSTAMP:20260421T211547
CREATED:20250317T152506Z
LAST-MODIFIED:20250317T152506Z
UID:333-1749945600-1750031999@gosportroadrunners.org.uk
SUMMARY:Alresford
DESCRIPTION:Distance: 10 Km
URL:https://gosportroadrunners.org.uk/event/alresford/
CATEGORIES:HRRL
END:VEVENT
BEGIN:VEVENT
DTSTART;VALUE=DATE:20250518
DTEND;VALUE=DATE:20250519
DTSTAMP:20260421T211547
CREATED:20250317T152330Z
LAST-MODIFIED:20250509T084201Z
UID:331-1747526400-1747612799@gosportroadrunners.org.uk
SUMMARY:Netley
DESCRIPTION:Distance: 10 Km
URL:https://gosportroadrunners.org.uk/event/netley/
CATEGORIES:HRRL
END:VEVENT
BEGIN:VEVENT
DTSTART;VALUE=DATE:20250511
DTEND;VALUE=DATE:20250512
DTSTAMP:20260421T211547
CREATED:20250317T152247Z
LAST-MODIFIED:20250509T084138Z
UID:329-1746921600-1747007999@gosportroadrunners.org.uk
SUMMARY:Alton
DESCRIPTION:Distance: 10 Miles
URL:https://gosportroadrunners.org.uk/event/alton/
CATEGORIES:HRRL
END:VEVENT
BEGIN:VEVENT
DTSTART;VALUE=DATE:20250406
DTEND;VALUE=DATE:20250407
DTSTAMP:20260421T211547
CREATED:20250317T151955Z
LAST-MODIFIED:20250317T152146Z
UID:325-1743897600-1743983999@gosportroadrunners.org.uk
SUMMARY:Salisbury
DESCRIPTION:Distance: 10 Miles
URL:https://gosportroadrunners.org.uk/event/salisbury/
CATEGORIES:HRRL
END:VEVENT
END:VCALENDAR